BEGIN:VCALENDAR
VERSION:2.0
PRODID:-//Tukios.com/
BEGIN:VEVENT
UID:83021b44-9356-48d4-927b-698ae64cf2d3@www.broadusraines.com
DTSTAMP:20260420T231604Z
DTSTART:20260425T150000Z
DTEND:20260425T160000Z
SUMMARY:Memorial Service
DESCRIPTION:
URL:https://www.broadusraines.com/obituaries/allen-clark
LOCATION:Broadus-Raines Chapel 501 Spring St  Green Cove Springs FL 32043
GEO:29.9922082;-81.6803818
END:VEVENT
END:VCALENDAR